BEGIN:VCALENDAR
VERSION:2.0
PRODID:-//eventon.com NONSGML v1.0//EN
CALSCALE:GREGORIAN
METHOD:PUBLISH
BEGIN:VEVENT
UID:69eb86682f1b9
DTSTAMP:20260424T150408Z
DTSTART:20270407T060000Z
DTEND:20270408T180000Z
LOCATION:
SUMMARY:2027 Annual Member Meeting
DESCRIPTION:Caring Communities 2027 Annual Member Meeting April 7 – 8\,  
 2027 We invite Members to join CEO Randy Renn at the Caring Communities 202
 6 Annual Member Meeting as he presents our 2026 operating results and offer
 s a comprehensive overview of Caring Communities&#8217; strategic direction
  for the next year. The Annual[..]\nhttps://caringcomm.org/events/2027-annu
 al-member-meeting-copy/
URL:https://caringcomm.org/events/2027-annual-member-meeting-copy/
END:VEVENT
END:VCALENDAR