BEGIN:VCALENDAR
VERSION:2.0
PRODID:-//eventon.com NONSGML v1.0//EN
CALSCALE:GREGORIAN
METHOD:PUBLISH
BEGIN:VEVENT
UID:69eb8b745a523
DTSTAMP:20260424T152540Z
DTSTART:20261117T180000Z
DTEND:20261117T190000Z
LOCATION:
SUMMARY:PLGL Webinar November 2026
DESCRIPTION:Tuesday\,  November 17\,  2026 12:00 pm &#8211; 1:00 pm\,  CST 
 Description: Check back closer to the event. This free event is only for cu
 rrent employees of a Member organization of Caring Communities or Peace Chu
 rch. If you are interested in attending but your organization is not a Memb
 er please contact[..]\nhttps://caringcomm.org/events/plgl-webinar-november-
 2026/
URL:https://caringcomm.org/events/plgl-webinar-november-2026/
END:VEVENT
END:VCALENDAR