BEGIN:VCALENDAR
VERSION:2.0
PRODID:-//eventon.com NONSGML v1.0//EN
CALSCALE:GREGORIAN
METHOD:PUBLISH
BEGIN:VEVENT
UID:69eb8b8456cf3
DTSTAMP:20260424T152556Z
DTSTART:20260922T170000Z
DTEND:20260922T180000Z
LOCATION:
SUMMARY:PLGL Webinar September 2026
DESCRIPTION:Tuesday\,  September 22\,  2026 12:00 pm &#8211; 1:00 pm\,  CST
  Description: Check back closer to the event. This free event is only for c
 urrent employees of a Member organization of Caring Communities or Peace Ch
 urch. If you are interested in attending but your organization is not a Mem
 ber please contact[..]\nhttps://caringcomm.org/events/plgl-webinar-septembe
 r-2026/
URL:https://caringcomm.org/events/plgl-webinar-september-2026/
END:VEVENT
END:VCALENDAR