BEGIN:VCALENDAR
VERSION:2.0
PRODID:-//eventon.com NONSGML v1.0//EN
CALSCALE:GREGORIAN
METHOD:PUBLISH
BEGIN:VEVENT
UID:69eb8736bcc9f
DTSTAMP:20260424T150734Z
DTSTART:20260929T170000Z
DTEND:20260929T180000Z
LOCATION:
SUMMARY:EPLI Webinar - September 2026
DESCRIPTION:Tuesday\,  September 29\,  2026 12:00 &#8211; 1:00 pm Central D
 escription: Information coming soon! This free event is only for current em
 ployees of a Member organization of Caring Communities or Peace Church. If 
 you are interested in attending but your organization is not a Member pleas
 e contact us on how to[..]\nhttps://caringcomm.org/events/epli-webinar-sept
 ember-2026/
URL:https://caringcomm.org/events/epli-webinar-september-2026/
END:VEVENT
END:VCALENDAR