BEGIN:VCALENDAR
VERSION:2.0
PRODID:-//eventon.com NONSGML v1.0//EN
CALSCALE:GREGORIAN
METHOD:PUBLISH
BEGIN:VEVENT
UID:69eacc9844eb5
DTSTAMP:20260424T015120Z
DTSTART:20260916T060000Z
DTEND:20260917T180000Z
LOCATION:
SUMMARY:2026 Fall Member Meeting
DESCRIPTION:2026 Fall Member Meeting September 16 – 17\,  2026 Santa Fe\,
   New Mexico Join your Caring Communities colleagues for our in-person Fall
  Member Meeting in beautiful Santa Fe\,  New Mexico. This Member meeting is
  your chance to dive into the latest updates on our strategic initiatives t
 hat will help shape[..]\nhttps://caringcomm.org/events/fall-member-meeting-
 2026/
URL:https://caringcomm.org/events/fall-member-meeting-2026/
END:VEVENT
END:VCALENDAR